Workbook

Sheet рейтинг
L1: Приложение 2
B2: РЕЙТИНГ
B3: ГЛАВНЫХ АДМИНИСТРАТОРОВ СРЕДСТВ БЮДЖЕТА ЗАТО СЕВЕРСК
B5: Наименование ГАБС | C5: Место | D5: Оценка качества финансового менеджмента ГАБС по направлениям | J5: Суммарная оценка | K5: Коэффициент сложности управления финансами | L5: Итоговая оценка (в баллах)
D6: бюджетное планирование | E6: исполнение бюджета ЗАТО Северск и формирование бюджетной отчетности | F6: предоставление услуг в соответствии с муниципальными заданиями | G6: качество исполнения бюджетного процесса во взаимосвязи с выявленными бюджетными нарушениями и осуществлением внутреннего финансового аудита | H6: управление активами | I6: осуществление ГАБС закупок товаров, работ и услуг для обеспечения муниципальных нужд
B7: Группа I
B8: Управление образования | C8: 1 | D8: 15 | E8: 31.5 | F8: 30.2 | G8: 13 | H8: 10 | I8: 15 | J8: =D8+E8+F8+G8+H8+I8 -> 114.7 | K8: 1.15 | L8: =J8*K8 -> 131.905
B9: УМСП ФКиС | C9: 2 | D9: 15 | E9: 32.7 | F9: 23.8 | G9: 13 | H9: 10 | I9: 8 | J9: =D9+E9+F9+G9+H9+I9 -> 102.5 | K9: =[1]коэффициенты!E6 -> 1.15 | L9: =J9*K9 -> 117.875
B10: Управление культуры | C10: 3 | D10: 20 | E10: 30.5 | F10: 23.7 | G10: 13 | H10: 10 | I10: 5 | J10: =D10+E10+F10+G10+H10+I10 -> 102.2 | K10: 1.15 | L10: =J10*K10 -> 117.53
B11: УЖКХ ТиС | C11: 4 | D11: 16 | E11: 33.9 | F11: 22.6 | G11: 8 | H11: 10 | I11: 15 | J11: =D11+E11+F11+G11+H11+I11 -> 105.5 | K11: =[1]коэффициенты!E10 -> 1.05 | L11: =J11*K11 -> 110.775
B12: УЧС | C12: 5 | D12: 15 | E12: 33.3 | G12: 10 | H12: 10 | I12: 15 | J12: =D12+E12+F12+G12+H12+I12 -> 83.3 | K12: =[1]коэффициенты!E11 -> 1.05 | L12: =J12*K12 -> 87.465
B13: Администрация | C13: 6 | D13: 13 | E13: 34.3 | G13: 13 | H13: 10 | I13: 10 | J13: =D13+E13+F13+G13+H13+I13 -> 80.3 | K13: 1.05 | L13: =J13*K13 -> 84.315
B14: УИО | C14: 7 | D14: 21 | E14: 29.2 | G14: 8 | H14: 5 | I14: 8 | J14: =D14+E14+F14+G14+H14+I14 -> 71.2 | K14: 1.05 | L14: =J14*K14 -> 74.76
B15: Группа II
B16: Финансовое управление | C16: 1 | D16: 20 | E16: 29.7 | G16: 10 | H16: 10 | I16: 15 | J16: =D16+E16+F16+G16+H16+I16 -> 84.7 | K16: =[1]коэффициенты!E15 -> 1 | L16: =J16*K16 -> 84.7
B17: УКС | C17: 2 | D17: 15 | E17: 32.2 | G17: 10 | H17: 10 | I17: 15 | J17: =D17+E17+F17+G17+H17+I17 -> 82.2 | K17: =[1]коэффициенты!E16 -> 1 | L17: =J17*K17 -> 82.2
B18: УВГТ | C18: 3 | D18: 20 | E18: 30.6 | G18: 8 | H18: 10 | I18: 10 | J18: =D18+E18+F18+G18+H18+I18 -> 78.6 | K18: =[1]коэффициенты!E14 -> 1 | L18: =J18*K18 -> 78.6
